BEGIN:VCALENDAR
VERSION:2.0
PRODID:-//Perthes-Gymnasium Friedrichroda - ECPv5.10.0//NONSGML v1.0//EN
CALSCALE:GREGORIAN
METHOD:PUBLISH
X-WR-CALNAME:Perthes-Gymnasium Friedrichroda
X-ORIGINAL-URL:https://www.perthes-gymnasium.de
X-WR-CALDESC:Veranstaltungen für Perthes-Gymnasium Friedrichroda
BEGIN:VTIMEZONE
TZID:Europe/Berlin
BEGIN:DAYLIGHT
TZOFFSETFROM:+0100
TZOFFSETTO:+0200
TZNAME:CEST
DTSTART:20260329T010000
END:DAYLIGHT
BEGIN:STANDARD
TZOFFSETFROM:+0200
TZOFFSETTO:+0100
TZNAME:CET
DTSTART:20261025T010000
END:STANDARD
END:VTIMEZONE
BEGIN:VEVENT
DTSTART;VALUE=DATE:20260508
DTEND;VALUE=DATE:20260509
DTSTAMP:20260424T095833
CREATED:20260321T203101Z
LAST-MODIFIED:20260420T212038Z
UID:11062-1778198400-1778284799@www.perthes-gymnasium.de
SUMMARY:Schriftliche Abiturprüfung Französisch
DESCRIPTION:Am Freitag\, 08.05.2026 wird die schriftliche Abiturprüfung im Fach Französisch absolviert.\nBonne chance et bonne réussite à vous tous!
URL:https://www.perthes-gymnasium.de/event/schriftliche-abiturpruefung-franzoesisch/
END:VEVENT
END:VCALENDAR